BEGIN:VCALENDAR
VERSION:2.0
PRODID:-//wp-events-plugin.com//7.2.3.1//EN
TZID:America/New_York
X-WR-TIMEZONE:America/New_York
BEGIN:VEVENT
UID:6094@hometowncountrymusic.com
DTSTART;TZID=America/New_York;VALUE=DATE:20260224
DTEND;TZID=America/New_York;VALUE=DATE:20260225
DTSTAMP:20260122T182546Z
URL:https://www.hometowncountrymusic.com/events/ronnie-milsap-50th-opry-an
 niversary-nashville-tn/
SUMMARY:Ronnie Milsap 50th Opry Anniversary - Nashville\, TN
DESCRIPTION:
ATTACH;FMTTYPE=image/jpeg:https://www.hometowncountrymusic.com/wp-content/
 uploads/2026/01/0224-Ronnie-Milsap.jpg
CATEGORIES:Concerts,Events
LOCATION:Grand Ole Opry House\, 2804 Opryland Dr\, Nashville\, TN\, 37214\,
  United States
GEO:36.2066804;-86.69215129999998
X-APPLE-STRUCTURED-LOCATION;VALUE=URI;X-ADDRESS=2804 Opryland Dr\, Nashvill
 e\, TN\, 37214\, United States;X-APPLE-RADIUS=100;X-TITLE=Grand Ole Opry H
 ouse:geo:36.2066804,-86.69215129999998
END:VEVENT
BEGIN:VTIMEZONE
TZID:America/New_York
X-LIC-LOCATION:America/New_York
BEGIN:STANDARD
DTSTART:20251102T010000
TZOFFSETFROM:-0400
TZOFFSETTO:-0500
TZNAME:EST
END:STANDARD
END:VTIMEZONE
END:VCALENDAR