BEGIN:VCALENDAR
VERSION:2.0
PRODID:-//wp-events-plugin.com//7.2.3.1//EN
TZID:America/New_York
X-WR-TIMEZONE:America/New_York
BEGIN:VEVENT
UID:6091@hometowncountrymusic.com
DTSTART;TZID=America/New_York;VALUE=DATE:20260711
DTEND;TZID=America/New_York;VALUE=DATE:20260712
DTSTAMP:20260121T041803Z
URL:https://www.hometowncountrymusic.com/events/kenny-chesney-las-vegas-nv
 -22/
SUMMARY:Kenny Chesney - Las Vegas\, NV
DESCRIPTION:
ATTACH;FMTTYPE=image/jpeg:https://www.hometowncountrymusic.com/wp-content/
 uploads/2026/01/07-Kenny-Chesney.jpg
CATEGORIES:Concerts
LOCATION:The Sphere Vegas\, 255 Sands Ave\, Las Vegas\, NV\, 89169\, United
  States
X-APPLE-STRUCTURED-LOCATION;VALUE=URI;X-ADDRESS=255 Sands Ave\, Las Vegas\,
  NV\, 89169\, United States;X-APPLE-RADIUS=100;X-TITLE=The Sphere Vegas:ge
 o:0,0
END:VEVENT
BEGIN:VTIMEZONE
TZID:America/New_York
X-LIC-LOCATION:America/New_York
BEGIN:DAYLIGHT
DTSTART:20260308T030000
TZOFFSETFROM:-0500
TZOFFSETTO:-0400
TZNAME:EDT
END:DAYLIGHT
END:VTIMEZONE
END:VCALENDAR