BEGIN:VCALENDAR
VERSION:2.0
PRODID:-//wp-events-plugin.com//7.2.3.1//EN
TZID:America/New_York
X-WR-TIMEZONE:America/New_York
BEGIN:VEVENT
UID:6070@hometowncountrymusic.com
DTSTART;TZID=America/New_York;VALUE=DATE:20260517
DTEND;TZID=America/New_York;VALUE=DATE:20260518
DTSTAMP:20251202T050501Z
URL:https://www.hometowncountrymusic.com/events/acm-awards-las-vegas-nv-am
 azon-prime/
SUMMARY:ACM Awards - Las Vegas\, NV & Amazon Prime
DESCRIPTION:
ATTACH;FMTTYPE=image/jpeg:https://www.hometowncountrymusic.com/wp-content/
 uploads/2025/12/0517-ACM-Awards.png
CATEGORIES:Events,On TV
LOCATION:MGM Grand Garden Arena\, 3799 S Las Vegas Blvd\, Las Vegas\, NV\, 
 89109\, United States
X-APPLE-STRUCTURED-LOCATION;VALUE=URI;X-ADDRESS=3799 S Las Vegas Blvd\, Las
  Vegas\, NV\, 89109\, United States;X-APPLE-RADIUS=100;X-TITLE=MGM Grand G
 arden Arena:geo:0,0
END:VEVENT
BEGIN:VTIMEZONE
TZID:America/New_York
X-LIC-LOCATION:America/New_York
BEGIN:DAYLIGHT
DTSTART:20260308T030000
TZOFFSETFROM:-0500
TZOFFSETTO:-0400
TZNAME:EDT
END:DAYLIGHT
END:VTIMEZONE
END:VCALENDAR